BEGIN:VCALENDAR
VERSION:2.0
PRODID:-//Life on Life - ECPv6.10.2//NONSGML v1.0//EN
CALSCALE:GREGORIAN
METHOD:PUBLISH
X-ORIGINAL-URL:https://lifeonlife.org
X-WR-CALDESC:Events for Life on Life
REFRESH-INTERVAL;VALUE=DURATION:PT1H
X-Robots-Tag:noindex
X-PUBLISHED-TTL:PT1H
BEGIN:VTIMEZONE
TZID:America/Los_Angeles
BEGIN:DAYLIGHT
TZOFFSETFROM:-0800
TZOFFSETTO:-0700
TZNAME:PDT
DTSTART:20210314T100000
END:DAYLIGHT
BEGIN:STANDARD
TZOFFSETFROM:-0700
TZOFFSETTO:-0800
TZNAME:PST
DTSTART:20211107T090000
END:STANDARD
END:VTIMEZONE
BEGIN:VEVENT
DTSTART;TZID=America/Los_Angeles:20210729T100000
DTEND;TZID=America/Los_Angeles:20210729T140000
DTSTAMP:20260425T071041
CREATED:20201019T163520Z
LAST-MODIFIED:20221216T165632Z
UID:10000035-1627552800-1627567200@lifeonlife.org
SUMMARY:Orange County\, Southern California
DESCRIPTION:RSVP at lifeonlife.org/envisioning
URL:https://lifeonlife.org/event/orange-county-southern-california/
LOCATION:Bethel Korean Church\, 18700 Harvard Ave\, Irvine\, CA\, 92612\, United States
CATEGORIES:Live Session
ORGANIZER;CN="Ryan Brown":MAILTO:ryanb@perimeter.org
END:VEVENT
BEGIN:VEVENT
DTSTART;TZID=America/Los_Angeles:20210730T100000
DTEND;TZID=America/Los_Angeles:20210730T140000
DTSTAMP:20260425T071041
CREATED:20210616T195638Z
LAST-MODIFIED:20221216T165607Z
UID:10000037-1627639200-1627653600@lifeonlife.org
SUMMARY:Carlsbad\, Southern California
DESCRIPTION:RSVP at lifeonlife.org/envisioning
URL:https://lifeonlife.org/event/carlsbad-southern-california/
LOCATION:North Coast Calvary Chapel\, 1330 Poinsettia Ln\, Carlsbad\, CA\, 92011\, United States
CATEGORIES:Live Session
ORGANIZER;CN="Ryan Brown":MAILTO:ryanb@perimeter.org
END:VEVENT
END:VCALENDAR