BEGIN:VCALENDAR
VERSION:2.0
PRODID:-//Life on Life - ECPv6.10.2//NONSGML v1.0//EN
CALSCALE:GREGORIAN
METHOD:PUBLISH
X-WR-CALNAME:Life on Life
X-ORIGINAL-URL:https://lifeonlife.org
X-WR-CALDESC:Events for Life on Life
REFRESH-INTERVAL;VALUE=DURATION:PT1H
X-Robots-Tag:noindex
X-PUBLISHED-TTL:PT1H
BEGIN:VTIMEZONE
TZID:America/New_York
BEGIN:DAYLIGHT
TZOFFSETFROM:-0500
TZOFFSETTO:-0400
TZNAME:EDT
DTSTART:20200308T070000
END:DAYLIGHT
BEGIN:STANDARD
TZOFFSETFROM:-0400
TZOFFSETTO:-0500
TZNAME:EST
DTSTART:20201101T060000
END:STANDARD
END:VTIMEZONE
BEGIN:VEVENT
DTSTART;TZID=America/New_York:20200924T103000
DTEND;TZID=America/New_York:20200924T113000
DTSTAMP:20260421T074129
CREATED:20200908T150044Z
LAST-MODIFIED:20210809T121949Z
UID:10000034-1600943400-1600947000@lifeonlife.org
SUMMARY:Metro Atlanta Collective Info Call
DESCRIPTION:Denomination\nnone selectedPCAPresbyterian (other)EpiscopalLutheranSouthern BaptistBaptist (other)MethodistNon-DenominationalOther\n \nChurch Size\nnone selected0-100101-350351-750751-18001\,800+\n \nChurch Role\nnone selectedSenior PastorAssistant PastorStaffElder/DeaconVolunteer
URL:https://lifeonlife.org/event/metro-atlanta-collective-info-call/
LOCATION:CA
CATEGORIES:Information Calls
ORGANIZER;CN="Ryan Brown":MAILTO:ryanb@perimeter.org
END:VEVENT
END:VCALENDAR